Workbook

Sheet Start Here
B2: Wedding Planning Timeline
B3: An interactive month-by-month planner from Butterfly Soiree. Enter your wedding date and every milestone gets a date, a status and a place on the timeline.
B5: Wedding date (type yours) | E5: Planning start date (optional) | H5: Days to go | K5: Weeks to go
B6: 46669 | E6: 46299 | H6: =IF(B6="","Set date",MAX(0,B6-TODAY())) -> 370 | K6: =IF(B6="","Set date",ROUNDUP(MAX(0,B6-TODAY())/7,0)) -> 53 | P6: =IF(B6="","",IF(E6="",B6-420,E6)) -> 46299
P7: =IF(B6="","",MAX(1,B6-P6)) -> 370
B8: Planning runway | E8: Milestones done | H8: Overdue | K8: Due in next 30 days | P8: =IF(B6="","",MAX(0,(MIN(P7,600)-60)/360)) -> 0.86111111
B9: =IF(B6="","",ROUND(P7/30.4,1)&" months") -> 12.2 months | E9: =COUNTIF(Timeline!A8:A99,"☑")&" of "&COUNTA(Timeline!B8:B99) -> 0 of 81 | H9: =COUNTIF(Timeline!I8:I99,"OVERDUE") -> 0 | K9: =COUNTIFS(Timeline!G8:G99,">="&TODAY(),Timeline!G8:G99,"<="&TODAY()+30,Timeline!A8:A99,"<>☑") -> 2
B11: =IF(B6="","Enter your wedding date to build your timeline.",IF(B6<=TODAY(),"Your wedding date has passed. Update it above, or use the After the Wedding milestones.",IF(P7>=365,"Pace: comfortable. You have a full year or more, so there is room to compare options.",IF(P7>=270,"Pace: good. Nine-plus months is plenty if you book your venue and photographer soon.",IF(P7>=180,"Pace: workable. Book your venue, photographer and caterer first, then work down the list.",IF(P7>=90,"Pace: compressed. Decide quickly and stay flexible on the date and day of the week.","Pace: rush. Prioritize venue, caterer and photographer, then simplify everything else.")))))) -> Pace: comfortable. You have a full year or more, so there is room to compare options.
B12: =IF(B6="","",IF(H9>0,"⚠ "&H9&" milestone(s) overdue. Open the Timeline tab to catch up, or move dates in the Your date column.","✓ Nothing overdue. You are on track.")) -> ✓ Nothing overdue. You are on track.
B14: =HYPERLINK("#'Timeline'!A1","Timeline →") -> Timeline → | F14: =HYPERLINK("#'Key Dates'!A1","Key Dates →") -> Key Dates → | J14: =HYPERLINK("#'Monthly Overview'!A1","Monthly Overview →") -> Monthly Overview →
B16: YOUR NEXT 10 MILESTONES (updates as you tick things off)
B17: Due | C17: Milestone | I17: Phase | K17: Status | L17: Owner
B18: =IF(R18="","",INDEX(Timeline!$G$8:$G$99,R18)) -> 46316 | C18: =IF(R18="","",INDEX(Timeline!$B$8:$B$99,R18)) -> Set your total budget and who is contributing | I18: =IF(R18="","",INDEX(Timeline!$C$8:$C$99,R18)) -> Foundations | K18: =IF(R18="","",INDEX(Timeline!$I$8:$I$99,R18)) -> In progress | L18: =IF(R18="","",IF(INDEX(Timeline!$E$8:$E$99,R18)=0,"",INDEX(Timeline!$E$8:$E$99,R18))) | Q18: =IFERROR(SMALL(Timeline!$AI$8:$AI$99,1),"") -> 46316 | R18: =IF(Q18="","",MATCH(Q18,Timeline!$AI$8:$AI$99,0)) -> 2
B19: =IF(R19="","",INDEX(Timeline!$G$8:$G$99,R19)) -> 46325 | C19: =IF(R19="","",INDEX(Timeline!$B$8:$B$99,R19)) -> Draft your guest list (A-list and B-list) | I19: =IF(R19="","",INDEX(Timeline!$C$8:$C$99,R19)) -> Foundations | K19: =IF(R19="","",INDEX(Timeline!$I$8:$I$99,R19)) -> In progress | L19: =IF(R19="","",IF(INDEX(Timeline!$E$8:$E$99,R19)=0,"",INDEX(Timeline!$E$8:$E$99,R19))) | Q19: =IFERROR(SMALL(Timeline!$AI$8:$AI$99,2),"") -> 46325 | R19: =IF(Q19="","",MATCH(Q19,Timeline!$AI$8:$AI$99,0)) -> 3
B20: =IF(R20="","",INDEX(Timeline!$G$8:$G$99,R20)) -> 46333 | C20: =IF(R20="","",INDEX(Timeline!$B$8:$B$99,R20)) -> Define your style and top three priorities | I20: =IF(R20="","",INDEX(Timeline!$C$8:$C$99,R20)) -> Foundations | K20: =IF(R20="","",INDEX(Timeline!$I$8:$I$99,R20)) -> Upcoming | L20: =IF(R20="","",IF(INDEX(Timeline!$E$8:$E$99,R20)=0,"",INDEX(Timeline!$E$8:$E$99,R20))) | Q20: =IFERROR(SMALL(Timeline!$AI$8:$AI$99,3),"") -> 46333 | R20: =IF(Q20="","",MATCH(Q20,Timeline!$AI$8:$AI$99,0)) -> 4
B21: =IF(R21="","",INDEX(Timeline!$G$8:$G$99,R21)) -> 46342 | C21: =IF(R21="","",INDEX(Timeline!$B$8:$B$99,R21)) -> Choose your season, month and flexible dates | I21: =IF(R21="","",INDEX(Timeline!$C$8:$C$99,R21)) -> Foundations | K21: =IF(R21="","",INDEX(Timeline!$I$8:$I$99,R21)) -> Upcoming | L21: =IF(R21="","",IF(INDEX(Timeline!$E$8:$E$99,R21)=0,"",INDEX(Timeline!$E$8:$E$99,R21))) | Q21: =IFERROR(SMALL(Timeline!$AI$8:$AI$99,4),"") -> 46342 | R21: =IF(Q21="","",MATCH(Q21,Timeline!$AI$8:$AI$99,0)) -> 5
B22: =IF(R22="","",INDEX(Timeline!$G$8:$G$99,R22)) -> 46368 | C22: =IF(R22="","",INDEX(Timeline!$B$8:$B$99,R22)) -> Tour and compare venues | I22: =IF(R22="","",INDEX(Timeline!$C$8:$C$99,R22)) -> Foundations | K22: =IF(R22="","",INDEX(Timeline!$I$8:$I$99,R22)) -> Upcoming | L22: =IF(R22="","",IF(INDEX(Timeline!$E$8:$E$99,R22)=0,"",INDEX(Timeline!$E$8:$E$99,R22))) | Q22: =IFERROR(SMALL(Timeline!$AI$8:$AI$99,5),"") -> 46368 | R22: =IF(Q22="","",MATCH(Q22,Timeline!$AI$8:$AI$99,0)) -> 7
B23: =IF(R23="","",INDEX(Timeline!$G$8:$G$99,R23)) -> 46377 | C23: =IF(R23="","",INDEX(Timeline!$B$8:$B$99,R23)) -> Hire your wedding planner or day-of coordinator | I23: =IF(R23="","",INDEX(Timeline!$C$8:$C$99,R23)) -> Foundations | K23: =IF(R23="","",INDEX(Timeline!$I$8:$I$99,R23)) -> Upcoming | L23: =IF(R23="","",IF(INDEX(Timeline!$E$8:$E$99,R23)=0,"",INDEX(Timeline!$E$8:$E$99,R23))) | Q23: =IFERROR(SMALL(Timeline!$AI$8:$AI$99,6),"") -> 46377 | R23: =IF(Q23="","",MATCH(Q23,Timeline!$AI$8:$AI$99,0)) -> 6
B24: =IF(R24="","",INDEX(Timeline!$G$8:$G$99,R24)) -> 46385 | C24: =IF(R24="","",INDEX(Timeline!$B$8:$B$99,R24)) -> Book your venue and lock the date | I24: =IF(R24="","",INDEX(Timeline!$C$8:$C$99,R24)) -> Foundations | K24: =IF(R24="","",INDEX(Timeline!$I$8:$I$99,R24)) -> Upcoming | L24: =IF(R24="","",IF(INDEX(Timeline!$E$8:$E$99,R24)=0,"",INDEX(Timeline!$E$8:$E$99,R24))) | Q24: =IFERROR(SMALL(Timeline!$AI$8:$AI$99,7),"") -> 46385 | R24: =IF(Q24="","",MATCH(Q24,Timeline!$AI$8:$AI$99,0)) -> 8
B25: =IF(R25="","",INDEX(Timeline!$G$8:$G$99,R25)) -> 46402 | C25: =IF(R25="","",INDEX(Timeline!$B$8:$B$99,R25)) -> Book your photographer | I25: =IF(R25="","",INDEX(Timeline!$C$8:$C$99,R25)) -> Foundations | K25: =IF(R25="","",INDEX(Timeline!$I$8:$I$99,R25)) -> Upcoming | L25: =IF(R25="","",IF(INDEX(Timeline!$E$8:$E$99,R25)=0,"",INDEX(Timeline!$E$8:$E$99,R25))) | Q25: =IFERROR(SMALL(Timeline!$AI$8:$AI$99,8),"") -> 46402 | R25: =IF(Q25="","",MATCH(Q25,Timeline!$AI$8:$AI$99,0)) -> 9
B26: =IF(R26="","",INDEX(Timeline!$G$8:$G$99,R26)) -> 46402 | C26: =IF(R26="","",INDEX(Timeline!$B$8:$B$99,R26)) -> Book your caterer (if the venue doesn't provide food) | I26: =IF(R26="","",INDEX(Timeline!$C$8:$C$99,R26)) -> Foundations | K26: =IF(R26="","",INDEX(Timeline!$I$8:$I$99,R26)) -> Upcoming | L26: =IF(R26="","",IF(INDEX(Timeline!$E$8:$E$99,R26)=0,"",INDEX(Timeline!$E$8:$E$99,R26))) | Q26: =IFERROR(SMALL(Timeline!$AI$8:$AI$99,9),"") -> 46402 | R26: =IF(Q26="","",MATCH(Q26,Timeline!$AI$8:$AI$99,0)) -> 10
B27: =IF(R27="","",INDEX(Timeline!$G$8:$G$99,R27)) -> 46420 | C27: =IF(R27="","",INDEX(Timeline!$B$8:$B$99,R27)) -> Book DJ, band or ceremony musicians | I27: =IF(R27="","",INDEX(Timeline!$C$8:$C$99,R27)) -> Foundations | K27: =IF(R27="","",INDEX(Timeline!$I$8:$I$99,R27)) -> Upcoming | L27: =IF(R27="","",IF(INDEX(Timeline!$E$8:$E$99,R27)=0,"",INDEX(Timeline!$E$8:$E$99,R27))) | Q27: =IFERROR(SMALL(Timeline!$AI$8:$AI$99,10),"") -> 46420 | R27: =IF(Q27="","",MATCH(Q27,Timeline!$AI$8:$AI$99,0)) -> 11
B29: PROGRESS BY PHASE
B30: Phase | E30: Done | F30: Total | G30: % complete
B31: Foundations | E31: =COUNTIFS(Timeline!$C$8:$C$99,B31,Timeline!$A$8:$A$99,"☑") -> 0 | F31: =COUNTIF(Timeline!$C$8:$C$99,B31) -> 12 | G31: =IF(F31=0,0,E31/F31) -> 0
B32: Core Team | E32: =COUNTIFS(Timeline!$C$8:$C$99,B32,Timeline!$A$8:$A$99,"☑") -> 0 | F32: =COUNTIF(Timeline!$C$8:$C$99,B32) -> 7 | G32: =IF(F32=0,0,E32/F32) -> 0
B33: Details | E33: =COUNTIFS(Timeline!$C$8:$C$99,B33,Timeline!$A$8:$A$99,"☑") -> 0 | F33: =COUNTIF(Timeline!$C$8:$C$99,B33) -> 8 | G33: =IF(F33=0,0,E33/F33) -> 0
B34: Paper & Attire | E34: =COUNTIFS(Timeline!$C$8:$C$99,B34,Timeline!$A$8:$A$99,"☑") -> 0 | F34: =COUNTIF(Timeline!$C$8:$C$99,B34) -> 7 | G34: =IF(F34=0,0,E34/F34) -> 0
B35: Finalizing | E35: =COUNTIFS(Timeline!$C$8:$C$99,B35,Timeline!$A$8:$A$99,"☑") -> 0 | F35: =COUNTIF(Timeline!$C$8:$C$99,B35) -> 7 | G35: =IF(F35=0,0,E35/F35) -> 0
B36: Invitations & Legal | E36: =COUNTIFS(Timeline!$C$8:$C$99,B36,Timeline!$A$8:$A$99,"☑") -> 0 | F36: =COUNTIF(Timeline!$C$8:$C$99,B36) -> 5 | G36: =IF(F36=0,0,E36/F36) -> 0
B37: Confirmations | E37: =COUNTIFS(Timeline!$C$8:$C$99,B37,Timeline!$A$8:$A$99,"☑") -> 0 | F37: =COUNTIF(Timeline!$C$8:$C$99,B37) -> 8 | G37: =IF(F37=0,0,E37/F37) -> 0
B38: Lock It Down | E38: =COUNTIFS(Timeline!$C$8:$C$99,B38,Timeline!$A$8:$A$99,"☑") -> 0 | F38: =COUNTIF(Timeline!$C$8:$C$99,B38) -> 9 | G38: =IF(F38=0,0,E38/F38) -> 0
B39: Final Two Weeks | E39: =COUNTIFS(Timeline!$C$8:$C$99,B39,Timeline!$A$8:$A$99,"☑") -> 0 | F39: =COUNTIF(Timeline!$C$8:$C$99,B39) -> 8 | G39: =IF(F39=0,0,E39/F39) -> 0
B40: Wedding Weekend | E40: =COUNTIFS(Timeline!$C$8:$C$99,B40,Timeline!$A$8:$A$99,"☑") -> 0 | F40: =COUNTIF(Timeline!$C$8:$C$99,B40) -> 3 | G40: =IF(F40=0,0,E40/F40) -> 0
B41: After the Wedding | E41: =COUNTIFS(Timeline!$C$8:$C$99,B41,Timeline!$A$8:$A$99,"☑") -> 0 | F41: =COUNTIF(Timeline!$C$8:$C$99,B41) -> 7 | G41: =IF(F41=0,0,E41/F41) -> 0
B43: HOW TO USE THIS TIMELINE
B44: 1. Type your wedding date in the first yellow card. The sample date is only an example. Replace it with yours.
B45: 2. Add your planning start date if you're starting late. The timeline compresses to fit. Leave it blank to see the full 14-month plan.
B46: 3. Open the Timeline tab. Tick milestones off with the ☐ / ☑ dropdown. The bars on the right turn green when done and pink when overdue.
B47: 4. Need a different date? Type your own in the yellow Your date column. That row and the bars update.
...

Sheet Timeline
A1: Wedding Planning Timeline
A2: =HYPERLINK("#'Start Here'!A1","← Back to Start Here") -> ← Back to Start Here
B3: Wedding date: | C3: =IF('Start Here'!$B$6="","Enter it on Start Here",'Start Here'!$B$6) -> 46669 | E3: Dates are calculated from your wedding date. To change a due date, type your own in the yellow "Your date" column.
B4: Gantt key: | C4: Planned window | D4: Done | E4: Overdue | F4: This month
A7: Done | B7: Milestone | C7: Phase | D7: Priority | E7: Owner | F7: Start | G7: Due | H7: Your date (optional) | I7: Status | J7: Tips & notes | K7: =IF('Start Here'!$B$6="","",DATE(YEAR('Start Here'!$P$6),MONTH('Start Here'!$P$6),1)) -> 46296 | L7: =IF(K7="","",EDATE(K7,1)) -> 46327 | M7: =IF(L7="","",EDATE(L7,1)) -> 46357 | N7: =IF(M7="","",EDATE(M7,1)) -> 46388 | O7: =IF(N7="","",EDATE(N7,1)) -> 46419 | P7: =IF(O7="","",EDATE(O7,1)) -> 46447 | Q7: =IF(P7="","",EDATE(P7,1)) -> 46478 | R7: =IF(Q7="","",EDATE(Q7,1)) -> 46508 | S7: =IF(R7="","",EDATE(R7,1)) -> 46539 | ... AF7: =IF(AE7="","",EDATE(AE7,1)) -> 46935
A8: FOUNDATIONS | 12+ months out
A9: ☐ | B9: Set your total budget and who is contributing | C9: Foundations | D9: High | F9: =IF('Start Here'!$B$6="","",MIN(G9,ROUND('Start Here'!$B$6-MIN(IF(AG9<=60,AG9,60+(AG9-60)*'Start Here'!$P$8),'Start Here'!$P$7),0))) -> 46299 | G9: =IF('Start Here'!$B$6="","",IF(H9<>"",H9,ROUND('Start Here'!$B$6-MIN(IF(AH9<=60,AH9,60+(AH9-60)*'Start Here'!$P$8),'Start Here'!$P$7),0))) -> 46316 | I9: =IF(G9="","",IF(A9="☑","Done",IF(G9<TODAY(),"OVERDUE",IF(F9<=TODAY(),"In progress","Upcoming")))) -> In progress | J9: Decide this before touring venues so every quote is measured against a real number. | AG9: 420 | AH9: 400 | AI9: =IF(OR(A9="☑",G9=""),"",G9+ROW()/100000) -> 46316
A10: ☐ | B10: Draft your guest list (A-list and B-list) | C10: Foundations | D10: High | F10: =IF('Start Here'!$B$6="","",MIN(G10,ROUND('Start Here'!$B$6-MIN(IF(AG10<=60,AG10,60+(AG10-60)*'Start Here'!$P$8),'Start Here'!$P$7),0))) -> 46299 | G10: =IF('Start Here'!$B$6="","",IF(H10<>"",H10,ROUND('Start Here'!$B$6-MIN(IF(AH10<=60,AH10,60+(AH10-60)*'Start Here'!$P$8),'Start Here'!$P$7),0))) -> 46325 | I10: =IF(G10="","",IF(A10="☑","Done",IF(G10<TODAY(),"OVERDUE",IF(F10<=TODAY(),"In progress","Upcoming")))) -> In progress | J10: Headcount drives venue size, catering and rentals. | AG10: 420 | AH10: 390 | AI10: =IF(OR(A10="☑",G10=""),"",G10+ROW()/100000) -> 46325
A11: ☐ | B11: Define your style and top three priorities | C11: Foundations | D11: High | F11: =IF('Start Here'!$B$6="","",MIN(G11,ROUND('Start Here'!$B$6-MIN(IF(AG11<=60,AG11,60+(AG11-60)*'Start Here'!$P$8),'Start Here'!$P$7),0))) -> 46308 | G11: =IF('Start Here'!$B$6="","",IF(H11<>"",H11,ROUND('Start Here'!$B$6-MIN(IF(AH11<=60,AH11,60+(AH11-60)*'Start Here'!$P$8),'Start Here'!$P$7),0))) -> 46333 | I11: =IF(G11="","",IF(A11="☑","Done",IF(G11<TODAY(),"OVERDUE",IF(F11<=TODAY(),"In progress","Upcoming")))) -> Upcoming | J11: Spend first on your top three. Trim elsewhere. | AG11: 410 | AH11: 380 | AI11: =IF(OR(A11="☑",G11=""),"",G11+ROW()/100000) -> 46333
A12: ☐ | B12: Choose your season, month and flexible dates | C12: Foundations | D12: High | F12: =IF('Start Here'!$B$6="","",MIN(G12,ROUND('Start Here'!$B$6-MIN(IF(AG12<=60,AG12,60+(AG12-60)*'Start Here'!$P$8),'Start Here'!$P$7),0))) -> 46316 | G12: =IF('Start Here'!$B$6="","",IF(H12<>"",H12,ROUND('Start Here'!$B$6-MIN(IF(AH12<=60,AH12,60+(AH12-60)*'Start Here'!$P$8),'Start Here'!$P$7),0))) -> 46342 | I12: =IF(G12="","",IF(A12="☑","Done",IF(G12<TODAY(),"OVERDUE",IF(F12<=TODAY(),"In progress","Upcoming")))) -> Upcoming | J12: Fridays, Sundays and weekdays often cost less than Saturdays. | AG12: 400 | AH12: 370 | AI12: =IF(OR(A12="☑",G12=""),"",G12+ROW()/100000) -> 46342
A13: ☐ | B13: Hire your wedding planner or day-of coordinator | C13: Foundations | D13: High | F13: =IF('Start Here'!$B$6="","",MIN(G13,ROUND('Start Here'!$B$6-MIN(IF(AG13<=60,AG13,60+(AG13-60)*'Start Here'!$P$8),'Start Here'!$P$7),0))) -> 46325 | G13: =IF('Start Here'!$B$6="","",IF(H13<>"",H13,ROUND('Start Here'!$B$6-MIN(IF(AH13<=60,AH13,60+(AH13-60)*'Start Here'!$P$8),'Start Here'!$P$7),0))) -> 46377 | I13: =IF(G13="","",IF(A13="☑","Done",IF(G13<TODAY(),"OVERDUE",IF(F13<=TODAY(),"In progress","Upcoming")))) -> Upcoming | J13: Earlier hires can steer venue and vendor choices. | AG13: 390 | AH13: 330 | AI13: =IF(OR(A13="☑",G13=""),"",G13+ROW()/100000) -> 46377
A14: ☐ | B14: Tour and compare venues | C14: Foundations | D14: High | F14: =IF('Start Here'!$B$6="","",MIN(G14,ROUND('Start Here'!$B$6-MIN(IF(AG14<=60,AG14,60+(AG14-60)*'Start Here'!$P$8),'Start Here'!$P$7),0))) -> 46333 | G14: =IF('Start Here'!$B$6="","",IF(H14<>"",H14,ROUND('Start Here'!$B$6-MIN(IF(AH14<=60,AH14,60+(AH14-60)*'Start Here'!$P$8),'Start Here'!$P$7),0))) -> 46368 | I14: =IF(G14="","",IF(A14="☑","Done",IF(G14<TODAY(),"OVERDUE",IF(F14<=TODAY(),"In progress","Upcoming")))) -> Upcoming | J14: Ask about weather backup, noise curfews, load-in times and vendor rules. | AG14: 380 | AH14: 340 | AI14: =IF(OR(A14="☑",G14=""),"",G14+ROW()/100000) -> 46368
A15: ☐ | B15: Book your venue and lock the date | C15: Foundations | D15: High | F15: =IF('Start Here'!$B$6="","",MIN(G15,ROUND('Start Here'!$B$6-MIN(IF(AG15<=60,AG15,60+(AG15-60)*'Start Here'!$P$8),'Start Here'!$P$7),0))) -> 46359 | G15: =IF('Start Here'!$B$6="","",IF(H15<>"",H15,ROUND('Start Here'!$B$6-MIN(IF(AH15<=60,AH15,60+(AH15-60)*'Start Here'!$P$8),'Start Here'!$P$7),0))) -> 46385 | I15: =IF(G15="","",IF(A15="☑","Done",IF(G15<TODAY(),"OVERDUE",IF(F15<=TODAY(),"In progress","Upcoming")))) -> Upcoming | J15: Read the contract: capacity, overtime fees, insurance, cancellation terms. | AG15: 350 | AH15: 320 | AI15: =IF(OR(A15="☑",G15=""),"",G15+ROW()/100000) -> 46385
A16: ☐ | B16: Book your photographer | C16: Foundations | D16: High | F16: =IF('Start Here'!$B$6="","",MIN(G16,ROUND('Start Here'!$B$6-MIN(IF(AG16<=60,AG16,60+(AG16-60)*'Start Here'!$P$8),'Start Here'!$P$7),0))) -> 46364 | G16: =IF('Start Here'!$B$6="","",IF(H16<>"",H16,ROUND('Start Here'!$B$6-MIN(IF(AH16<=60,AH16,60+(AH16-60)*'Start Here'!$P$8),'Start Here'!$P$7),0))) -> 46402 | I16: =IF(G16="","",IF(A16="☑","Done",IF(G16<TODAY(),"OVERDUE",IF(F16<=TODAY(),"In progress","Upcoming")))) -> Upcoming | J16: Top photographers fill peak dates a year or more ahead. | AG16: 345 | AH16: 300 | AI16: =IF(OR(A16="☑",G16=""),"",G16+ROW()/100000) -> 46402
A17: ☐ | B17: Book your caterer (if the venue doesn't provide food) | C17: Foundations | D17: High | F17: =IF('Start Here'!$B$6="","",MIN(G17,ROUND('Start Here'!$B$6-MIN(IF(AG17<=60,AG17,60+(AG17-60)*'Start Here'!$P$8),'Start Here'!$P$7),0))) -> 46368 | G17: =IF('Start Here'!$B$6="","",IF(H17<>"",H17,ROUND('Start Here'!$B$6-MIN(IF(AH17<=60,AH17,60+(AH17-60)*'Start Here'!$P$8),'Start Here'!$P$7),0))) -> 46402 | I17: =IF(G17="","",IF(A17="☑","Done",IF(G17<TODAY(),"OVERDUE",IF(F17<=TODAY(),"In progress","Upcoming")))) -> Upcoming | AG17: 340 | AH17: 300 | AI17: =IF(OR(A17="☑",G17=""),"",G17+ROW()/100000) -> 46402
A18: ☐ | B18: Book DJ, band or ceremony musicians | C18: Foundations | D18: Medium | F18: =IF('Start Here'!$B$6="","",MIN(G18,ROUND('Start Here'!$B$6-MIN(IF(AG18<=60,AG18,60+(AG18-60)*'Start Here'!$P$8),'Start Here'!$P$7),0))) -> 46377 | G18: =IF('Start Here'!$B$6="","",IF(H18<>"",H18,ROUND('Start Here'!$B$6-MIN(IF(AH18<=60,AH18,60+(AH18-60)*'Start Here'!$P$8),'Start Here'!$P$7),0))) -> 46420 | I18: =IF(G18="","",IF(A18="☑","Done",IF(G18<TODAY(),"OVERDUE",IF(F18<=TODAY(),"In progress","Upcoming")))) -> Upcoming | AG18: 330 | AH18: 280 | AI18: =IF(OR(A18="☑",G18=""),"",G18+ROW()/100000) -> 46420
A19: ☐ | B19: Confirm permits for outdoor or public-space ceremonies | C19: Foundations | D19: Medium | F19: =IF('Start Here'!$B$6="","",MIN(G19,ROUND('Start Here'!$B$6-MIN(IF(AG19<=60,AG19,60+(AG19-60)*'Start Here'!$P$8),'Start Here'!$P$7),0))) -> 46377 | G19: =IF('Start Here'!$B$6="","",IF(H19<>"",H19,ROUND('Start Here'!$B$6-MIN(IF(AH19<=60,AH19,60+(AH19-60)*'Start Here'!$P$8),'Start Here'!$P$7),0))) -> 46428 | I19: =IF(G19="","",IF(A19="☑","Done",IF(G19<TODAY(),"OVERDUE",IF(F19<=TODAY(),"In progress","Upcoming")))) -> Upcoming | J19: Rules vary by city, park and agency. Ask early. | AG19: 330 | AH19: 270 | AI19: =IF(OR(A19="☑",G19=""),"",G19+ROW()/100000) -> 46428
A20: ☐ | B20: Review wedding insurance and venue liability requirements | C20: Foundations | D20: Low | F20: =IF('Start Here'!$B$6="","",MIN(G20,ROUND('Start Here'!$B$6-MIN(IF(AG20<=60,AG20,60+(AG20-60)*'Start Here'!$P$8),'Start Here'!$P$7),0))) -> 46385 | G20: =IF('Start Here'!$B$6="","",IF(H20<>"",H20,ROUND('Start Here'!$B$6-MIN(IF(AH20<=60,AH20,60+(AH20-60)*'Start Here'!$P$8),'Start Here'!$P$7),0))) -> 46420 | I20: =IF(G20="","",IF(A20="☑","Done",IF(G20<TODAY(),"OVERDUE",IF(F20<=TODAY(),"In progress","Upcoming")))) -> Upcoming | J20: Some venues require a liability certificate from you. | AG20: 320 | AH20: 280 | AI20: =IF(OR(A20="☑",G20=""),"",G20+ROW()/100000) -> 46420
A21: CORE TEAM | 9-11 months out
A22: ☐ | B22: Book your florist or wedding designer | C22: Core Team | D22: High | F22: =IF('Start Here'!$B$6="","",MIN(G22,ROUND('Start Here'!$B$6-MIN(IF(AG22<=60,AG22,60+(AG22-60)*'Start Here'!$P$8),'Start Here'!$P$7),0))) -> 46389 | G22: =IF('Start Here'!$B$6="","",IF(H22<>"",H22,ROUND('Start Here'!$B$6-MIN(IF(AH22<=60,AH22,60+(AH22-60)*'Start Here'!$P$8),'Start Here'!$P$7),0))) -> 46428 | I22: =IF(G22="","",IF(A22="☑","Done",IF(G22<TODAY(),"OVERDUE",IF(F22<=TODAY(),"In progress","Upcoming")))) -> Upcoming | J22: Share your budget range in the first email. | AG22: 315 | AH22: 270 | AI22: =IF(OR(A22="☑",G22=""),"",G22+ROW()/100000) -> 46428
A23: ☐ | B23: Book your officiant | C23: Core Team | D23: High | F23: =IF('Start Here'!$B$6="","",MIN(G23,ROUND('Start Here'!$B$6-MIN(IF(AG23<=60,AG23,60+(AG23-60)*'Start Here'!$P$8),'Start Here'!$P$7),0))) -> 46402 | G23: =IF('Start Here'!$B$6="","",IF(H23<>"",H23,ROUND('Start Here'!$B$6-MIN(IF(AH23<=60,AH23,60+(AH23-60)*'Start Here'!$P$8),'Start Here'!$P$7),0))) -> 46428 | I23: =IF(G23="","",IF(A23="☑","Done",IF(G23<TODAY(),"OVERDUE",IF(F23<=TODAY(),"In progress","Upcoming")))) -> Upcoming | AG23: 300 | AH23: 270 | AI23: =IF(OR(A23="☑",G23=""),"",G23+ROW()/100000) -> 46428
A24: ☐ | B24: Start shopping for the wedding dress or attire | C24: Core Team | D24: High | F24: =IF('Start Here'!$B$6="","",MIN(G24,ROUND('Start Here'!$B$6-MIN(IF(AG24<=60,AG24,60+(AG24-60)*'Start Here'!$P$8),'Start Here'!$P$7),0))) -> 46402 | G24: =IF('Start Here'!$B$6="","",IF(H24<>"",H24,ROUND('Start Here'!$B$6-MIN(IF(AH24<=60,AH24,60+(AH24-60)*'Start Here'!$P$8),'Start Here'!$P$7),0))) -> 46454 | I24: =IF(G24="","",IF(A24="☑","Done",IF(G24<TODAY(),"OVERDUE",IF(F24<=TODAY(),"In progress","Upcoming")))) -> Upcoming | J24: Allow 6 to 9 months for ordering and alterations. | AG24: 300 | AH24: 240 | AI24: =IF(OR(A24="☑",G24=""),"",G24+ROW()/100000) -> 46454
A25: ☐ | B25: Choose your wedding party | C25: Core Team | D25: Medium | F25: =IF('Start Here'!$B$6="","",MIN(G25,ROUND('Start Here'!$B$6-MIN(IF(AG25<=60,AG25,60+(AG25-60)*'Start Here'!$P$8),'Start Here'!$P$7),0))) -> 46402 | G25: =IF('Start Here'!$B$6="","",IF(H25<>"",H25,ROUND('Start Here'!$B$6-MIN(IF(AH25<=60,AH25,60+(AH25-60)*'Start Here'!$P$8),'Start Here'!$P$7),0))) -> 46428 | I25: =IF(G25="","",IF(A25="☑","Done",IF(G25<TODAY(),"OVERDUE",IF(F25<=TODAY(),"In progress","Upcoming")))) -> Upcoming | AG25: 300 | AH25: 270 | AI25: =IF(OR(A25="☑",G25=""),"",G25+ROW()/100000) -> 46428
A26: ☐ | B26: Launch your wedding website and open your registry | C26: Core Team | D26: Medium | F26: =IF('Start Here'!$B$6="","",MIN(G26,ROUND('Start Here'!$B$6-MIN(IF(AG26<=60,AG26,60+(AG26-60)*'Start Here'!$P$8),'Start Here'!$P$7),0))) -> 46411 | G26: =IF('Start Here'!$B$6="","",IF(H26<>"",H26,ROUND('Start Here'!$B$6-MIN(IF(AH26<=60,AH26,60+(AH26-60)*'Start Here'!$P$8),'Start Here'!$P$7),0))) -> 46454 | I26: =IF(G26="","",IF(A26="☑","Done",IF(G26<TODAY(),"OVERDUE",IF(F26<=TODAY(),"In progress","Upcoming")))) -> Upcoming | J26: Include venue address, parking, dress code and hotel info. | AG26: 290 | AH26: 240 | AI26: =IF(OR(A26="☑",G26=""),"",G26+ROW()/100000) -> 46454
A27: ☐ | B27: Reserve a hotel room block for out-of-town guests | C27: Core Team | D27: Medium | F27: =IF('Start Here'!$B$6="","",MIN(G27,ROUND('Start Here'!$B$6-MIN(IF(AG27<=60,AG27,60+(AG27-60)*'Start Here'!$P$8),'Start Here'!$P$7),0))) -> 46411 | G27: =IF('Start Here'!$B$6="","",IF(H27<>"",H27,ROUND('Start Here'!$B$6-MIN(IF(AH27<=60,AH27,60+(AH27-60)*'Start Here'!$P$8),'Start Here'!$P$7),0))) -> 46445 | I27: =IF(G27="","",IF(A27="☑","Done",IF(G27<TODAY(),"OVERDUE",IF(F27<=TODAY(),"In progress","Upcoming")))) -> Upcoming | J27: Negotiate a group rate and a flexible release date. | AG27: 290 | AH27: 250 | AI27: =IF(OR(A27="☑",G27=""),"",G27+ROW()/100000) -> 46445
A28: ☐ | B28: Book engagement photos | C28: Core Team | D28: Low | F28: =IF('Start Here'!$B$6="","",MIN(G28,ROUND('Start Here'!$B$6-MIN(IF(AG28<=60,AG28,60+(AG28-60)*'Start Here'!$P$8),'Start Here'!$P$7),0))) -> 46420 | G28: =IF('Start Here'!$B$6="","",IF(H28<>"",H28,ROUND('Start Here'!$B$6-MIN(IF(AH28<=60,AH28,60+(AH28-60)*'Start Here'!$P$8),'Start Here'!$P$7),0))) -> 46488 | I28: =IF(G28="","",IF(A28="☑","Done",IF(G28<TODAY(),"OVERDUE",IF(F28<=TODAY(),"In progress","Upcoming")))) -> Upcoming | J28: Use them for your website and save-the-dates. | AG28: 280 | AH28: 200 | AI28: =IF(OR(A28="☑",G28=""),"",G28+ROW()/100000) -> 46488
A29: DETAILS | 6-8 months out
A30: ☐ | B30: Book hair and makeup artists | C30: Details | D30: Medium | F30: =IF('Start Here'!$B$6="","",MIN(G30,ROUND('Start Here'!$B$6-MIN(IF(AG30<=60,AG30,60+(AG30-60)*'Start Here'!$P$8),'Start Here'!$P$7),0))) -> 46441 | G30: =IF('Start Here'!$B$6="","",IF(H30<>"",H30,ROUND('Start Here'!$B$6-MIN(IF(AH30<=60,AH30,60+(AH30-60)*'Start Here'!$P$8),'Start Here'!$P$7),0))) -> 46480 | I30: =IF(G30="","",IF(A30="☑","Done",IF(G30<TODAY(),"OVERDUE",IF(F30<=TODAY(),"In progress","Upcoming")))) -> Upcoming | J30: Confirm travel fees and how many people they can serve. | AG30: 255 | AH30: 210 | AI30: =IF(OR(A30="☑",G30=""),"",G30+ROW()/100000) -> 46480
A31: ☐ | B31: Book your cake or dessert baker | C31: Details | D31: Medium | F31: =IF('Start Here'!$B$6="","",MIN(G31,ROUND('Start Here'!$B$6-MIN(IF(AG31<=60,AG31,60+(AG31-60)*'Start Here'!$P$8),'Start Here'!$P$7),0))) -> 46441 | G31: =IF('Start Here'!$B$6="","",IF(H31<>"",H31,ROUND('Start Here'!$B$6-MIN(IF(AH31<=60,AH31,60+(AH31-60)*'Start Here'!$P$8),'Start Here'!$P$7),0))) -> 46480 | I31: =IF(G31="","",IF(A31="☑","Done",IF(G31<TODAY(),"OVERDUE",IF(F31<=TODAY(),"In progress","Upcoming")))) -> Upcoming | AG31: 255 | AH31: 210 | AI31: =IF(OR(A31="☑",G31=""),"",G31+ROW()/100000) -> 46480
A32: ☐ | B32: Book rentals: tables, chairs, linens, lounge pieces | C32: Details | D32: Medium | F32: =IF('Start Here'!$B$6="","",MIN(G32,ROUND('Start Here'!$B$6-MIN(IF(AG32<=60,AG32,60+(AG32-60)*'Start Here'!$P$8),'Start Here'!$P$7),0))) -> 46445 | G32: =IF('Start Here'!$B$6="","",IF(H32<>"",H32,ROUND('Start Here'!$B$6-MIN(IF(AH32<=60,AH32,60+(AH32-60)*'Start Here'!$P$8),'Start Here'!$P$7),0))) -> 46488 | I32: =IF(G32="","",IF(A32="☑","Done",IF(G32<TODAY(),"OVERDUE",IF(F32<=TODAY(),"In progress","Upcoming")))) -> Upcoming | J32: Check what the venue already includes. | AG32: 250 | AH32: 200 | AI32: =IF(OR(A32="☑",G32=""),"",G32+ROW()/100000) -> 46488
A33: ☐ | B33: Book lighting and sound / AV | C33: Details | D33: Medium | F33: =IF('Start Here'!$B$6="","",MIN(G33,ROUND('Start Here'!$B$6-MIN(IF(AG33<=60,AG33,60+(AG33-60)*'Start Here'!$P$8),'Start Here'!$P$7),0))) -> 46445 | G33: =IF('Start Here'!$B$6="","",IF(H33<>"",H33,ROUND('Start Here'!$B$6-MIN(IF(AH33<=60,AH33,60+(AH33-60)*'Start Here'!$P$8),'Start Here'!$P$7),0))) -> 46488 | I33: =IF(G33="","",IF(A33="☑","Done",IF(G33<TODAY(),"OVERDUE",IF(F33<=TODAY(),"In progress","Upcoming")))) -> Upcoming | AG33: 250 | AH33: 200 | AI33: =IF(OR(A33="☑",G33=""),"",G33+ROW()/100000) -> 46488
A34: ☐ | B34: Book guest shuttle or wedding-day transportation | C34: Details | D34: Medium | F34: =IF('Start Here'!$B$6="","",MIN(G34,ROUND('Start Here'!$B$6-MIN(IF(AG34<=60,AG34,60+(AG34-60)*'Start Here'!$P$8),'Start Here'!$P$7),0))) -> 46454 | G34: =IF('Start Here'!$B$6="","",IF(H34<>"",H34,ROUND('Start Here'!$B$6-MIN(IF(AH34<=60,AH34,60+(AH34-60)*'Start Here'!$P$8),'Start Here'!$P$7),0))) -> 46497 | I34: =IF(G34="","",IF(A34="☑","Done",IF(G34<TODAY(),"OVERDUE",IF(F34<=TODAY(),"In progress","Upcoming")))) -> Upcoming | AG34: 240 | AH34: 190 | AI34: =IF(OR(A34="☑",G34=""),"",G34+ROW()/100000) -> 46497
A35: ☐ | B35: Develop your decor concept, palette and mood board | C35: Details | D35: Medium | F35: =IF('Start Here'!$B$6="","",MIN(G35,ROUND('Start Here'!$B$6-MIN(IF(AG35<=60,AG35,60+(AG35-60)*'Start Here'!$P$8),'Start Here'!$P$7),0))) -> 46454 | G35: =IF('Start Here'!$B$6="","",IF(H35<>"",H35,ROUND('Start Here'!$B$6-MIN(IF(AH35<=60,AH35,60+(AH35-60)*'Start Here'!$P$8),'Start Here'!$P$7),0))) -> 46488 | I35: =IF(G35="","",IF(A35="☑","Done",IF(G35<TODAY(),"OVERDUE",IF(F35<=TODAY(),"In progress","Upcoming")))) -> Upcoming | J35: One master document keeps every vendor on the same page. | AG35: 240 | AH35: 200 | AI35: =IF(OR(A35="☑",G35=""),"",G35+ROW()/100000) -> 46488
A36: ☐ | B36: Plan the rehearsal dinner and welcome events | C36: Details | D36: Low | F36: =IF('Start Here'!$B$6="","",MIN(G36,ROUND('Start Here'!$B$6-MIN(IF(AG36<=60,AG36,60+(AG36-60)*'Start Here'!$P$8),'Start Here'!$P$7),0))) -> 46463 | G36: =IF('Start Here'!$B$6="","",IF(H36<>"",H36,ROUND('Start Here'!$B$6-MIN(IF(AH36<=60,AH36,60+(AH36-60)*'Start Here'!$P$8),'Start Here'!$P$7),0))) -> 46506 | I36: =IF(G36="","",IF(A36="☑","Done",IF(G36<TODAY(),"OVERDUE",IF(F36<=TODAY(),"In progress","Upcoming")))) -> Upcoming | AG36: 230 | AH36: 180 | AI36: =IF(OR(A36="☑",G36=""),"",G36+ROW()/100000) -> 46506
A37: ☐ | B37: Research honeymoon options and check passport dates | C37: Details | D37: Low | F37: =IF('Start Here'!$B$6="","",MIN(G37,ROUND('Start Here'!$B$6-MIN(IF(AG37<=60,AG37,60+(AG37-60)*'Start Here'!$P$8),'Start Here'!$P$7),0))) -> 46463 | G37: =IF('Start Here'!$B$6="","",IF(H37<>"",H37,ROUND('Start Here'!$B$6-MIN(IF(AH37<=60,AH37,60+(AH37-60)*'Start Here'!$P$8),'Start Here'!$P$7),0))) -> 46497 | I37: =IF(G37="","",IF(A37="☑","Done",IF(G37<TODAY(),"OVERDUE",IF(F37<=TODAY(),"In progress","Upcoming")))) -> Upcoming | J37: Many countries require 6 months of passport validity. | AG37: 230 | AH37: 190 | AI37: =IF(OR(A37="☑",G37=""),"",G37+ROW()/100000) -> 46497
A38: PAPER & ATTIRE | 4-6 months out
A39: ☐ | B39: Send save-the-dates | C39: Paper & Attire | D39: High | F39: =IF('Start Here'!$B$6="","",MIN(G39,ROUND('Start Here'!$B$6-MIN(IF(AG39<=60,AG39,60+(AG39-60)*'Start Here'!$P$8),'Start Here'!$P$7),0))) -> 46488 | G39: =IF('Start Here'!$B$6="","",IF(H39<>"",H39,ROUND('Start Here'!$B$6-MIN(IF(AH39<=60,AH39,60+(AH39-60)*'Start Here'!$P$8),'Start Here'!$P$7),0))) -> 46506 | I39: =IF(G39="","",IF(A39="☑","Done",IF(G39<TODAY(),"OVERDUE",IF(F39<=TODAY(),"In progress","Upcoming")))) -> Upcoming | J39: Send 8 to 12 months out for destination or holiday-weekend weddings. | AG39: 200 | AH39: 180 | AI39: =IF(OR(A39="☑",G39=""),"",G39+ROW()/100000) -> 46506
A40: ☐ | B40: Order the wedding dress and bridesmaid attire | C40: Paper & Attire | D40: High | F40: =IF('Start Here'!$B$6="","",MIN(G40,ROUND('Start Here'!$B$6-MIN(IF(AG40<=60,AG40,60+(AG40-60)*'Start Here'!$P$8),'Start Here'!$P$7),0))) -> 46480 | G40: =IF('Start Here'!$B$6="","",IF(H40<>"",H40,ROUND('Start Here'!$B$6-MIN(IF(AH40<=60,AH40,60+(AH40-60)*'Start Here'!$P$8),'Start Here'!$P$7),0))) -> 46506 | I40: =IF(G40="","",IF(A40="☑","Done",IF(G40<TODAY(),"OVERDUE",IF(F40<=TODAY(),"In progress","Upcoming")))) -> Upcoming | J40: Lead times plus alterations take months. | AG40: 210 | AH40: 180 | AI40: =IF(OR(A40="☑",G40=""),"",G40+ROW()/100000) -> 46506
A41: ☐ | B41: Order invitations and stationery suite | C41: Paper & Attire | D41: High | F41: =IF('Start Here'!$B$6="","",MIN(G41,ROUND('Start Here'!$B$6-MIN(IF(AG41<=60,AG41,60+(AG41-60)*'Start Here'!$P$8),'Start Here'!$P$7),0))) -> 46497 | G41: =IF('Start Here'!$B$6="","",IF(H41<>"",H41,ROUND('Start Here'!$B$6-MIN(IF(AH41<=60,AH41,60+(AH41-60)*'Start Here'!$P$8),'Start Here'!$P$7),0))) -> 46523 | I41: =IF(G41="","",IF(A41="☑","Done",IF(G41<TODAY(),"OVERDUE",IF(F41<=TODAY(),"In progress","Upcoming")))) -> Upcoming | J41: Order extras for vendors and photo flat-lays. | AG41: 190 | AH41: 160 | AI41: =IF(OR(A41="☑",G41=""),"",G41+ROW()/100000) -> 46523
A42: ☐ | B42: Choose partner and groomsmen attire | C42: Paper & Attire | D42: Medium | F42: =IF('Start Here'!$B$6="","",MIN(G42,ROUND('Start Here'!$B$6-MIN(IF(AG42<=60,AG42,60+(AG42-60)*'Start Here'!$P$8),'Start Here'!$P$7),0))) -> 46506 | G42: =IF('Start Here'!$B$6="","",IF(H42<>"",H42,ROUND('Start Here'!$B$6-MIN(IF(AH42<=60,AH42,60+(AH42-60)*'Start Here'!$P$8),'Start Here'!$P$7),0))) -> 46532 | I42: =IF(G42="","",IF(A42="☑","Done",IF(G42<TODAY(),"OVERDUE",IF(F42<=TODAY(),"In progress","Upcoming")))) -> Upcoming | AG42: 180 | AH42: 150 | AI42: =IF(OR(A42="☑",G42=""),"",G42+ROW()/100000) -> 46532
...

Sheet Key Dates
B1: Key Dates
B2: =HYPERLINK("#'Start Here'!A1","← Back to Start Here") -> ← Back to Start Here
B3: Deadlines that sneak up on couples. Change the yellow number of days to fit your plan. Dates calculate from your wedding date.
B5: Deadline | C5: Days before wedding | D5: Date | E5: Day | F5: Days away | G5: Status | H5: Rule of thumb
B6: Send save-the-dates | C6: 180 | D6: =IF('Start Here'!$B$6="","",'Start Here'!$B$6-C6) -> 46489 | E6: =IF(D6="","",TEXT(D6,"dddd")) -> Monday | F6: =IF(D6="","",D6-TODAY()) -> 190 | G6: =IF(D6="","",IF(F6<0,"Passed",IF(F6<=7,"This week",IF(F6<=30,"Within 30 days","Upcoming")))) -> Upcoming | H6: Typically 6 to 8 months out. Send 8 to 12 months out for destination or holiday-weekend weddings.
B7: Hotel room block cutoff | C7: 45 | D7: =IF('Start Here'!$B$6="","",'Start Here'!$B$6-C7) -> 46624 | E7: =IF(D7="","",TEXT(D7,"dddd")) -> Wednesday | F7: =IF(D7="","",D7-TODAY()) -> 325 | G7: =IF(D7="","",IF(F7<0,"Passed",IF(F7<=7,"This week",IF(F7<=30,"Within 30 days","Upcoming")))) -> Upcoming | H7: Set by the hotel, often 30 to 60 days out. Confirm in your contract.
B8: Marriage license window opens | C8: 90 | D8: =IF('Start Here'!$B$6="","",'Start Here'!$B$6-C8) -> 46579 | E8: =IF(D8="","",TEXT(D8,"dddd")) -> Sunday | F8: =IF(D8="","",D8-TODAY()) -> 280 | G8: =IF(D8="","",IF(F8<0,"Passed",IF(F8<=7,"This week",IF(F8<=30,"Within 30 days","Upcoming")))) -> Upcoming | H8: Validity and rules vary by state and county. In California, a license is valid for 90 days. Check yours.
B9: Mail invitations | C9: 63 | D9: =IF('Start Here'!$B$6="","",'Start Here'!$B$6-C9) -> 46606 | E9: =IF(D9="","",TEXT(D9,"dddd")) -> Saturday | F9: =IF(D9="","",D9-TODAY()) -> 307 | G9: =IF(D9="","",IF(F9<0,"Passed",IF(F9<=7,"This week",IF(F9<=30,"Within 30 days","Upcoming")))) -> Upcoming | H9: Usually 8 to 10 weeks before the wedding.
B10: Hair and makeup trial | C10: 60 | D10: =IF('Start Here'!$B$6="","",'Start Here'!$B$6-C10) -> 46609 | E10: =IF(D10="","",TEXT(D10,"dddd")) -> Tuesday | F10: =IF(D10="","",D10-TODAY()) -> 310 | G10: =IF(D10="","",IF(F10<0,"Passed",IF(F10<=7,"This week",IF(F10<=30,"Within 30 days","Upcoming")))) -> Upcoming | H10: One to two months out, so there's time to adjust.
B11: RSVP deadline | C11: 28 | D11: =IF('Start Here'!$B$6="","",'Start Here'!$B$6-C11) -> 46641 | E11: =IF(D11="","",TEXT(D11,"dddd")) -> Saturday | F11: =IF(D11="","",D11-TODAY()) -> 342 | G11: =IF(D11="","",IF(F11<0,"Passed",IF(F11<=7,"This week",IF(F11<=30,"Within 30 days","Upcoming")))) -> Upcoming | H11: Three to four weeks out. Ask guests to reply about a week before your caterer's deadline.
B12: Send final timeline to vendors | C12: 14 | D12: =IF('Start Here'!$B$6="","",'Start Here'!$B$6-C12) -> 46655 | E12: =IF(D12="","",TEXT(D12,"dddd")) -> Saturday | F12: =IF(D12="","",D12-TODAY()) -> 356 | G12: =IF(D12="","",IF(F12<0,"Passed",IF(F12<=7,"This week",IF(F12<=30,"Within 30 days","Upcoming")))) -> Upcoming | H12: Two weeks out gives vendors time to ask questions.
B13: Final headcount to caterer | C13: 14 | D13: =IF('Start Here'!$B$6="","",'Start Here'!$B$6-C13) -> 46655 | E13: =IF(D13="","",TEXT(D13,"dddd")) -> Saturday | F13: =IF(D13="","",D13-TODAY()) -> 356 | G13: =IF(D13="","",IF(F13<0,"Passed",IF(F13<=7,"This week",IF(F13<=30,"Within 30 days","Upcoming")))) -> Upcoming | H13: Check your catering contract. Many require numbers 7 to 14 days out.
B14: Seating chart finished | C14: 14 | D14: =IF('Start Here'!$B$6="","",'Start Here'!$B$6-C14) -> 46655 | E14: =IF(D14="","",TEXT(D14,"dddd")) -> Saturday | F14: =IF(D14="","",D14-TODAY()) -> 356 | G14: =IF(D14="","",IF(F14<0,"Passed",IF(F14<=7,"This week",IF(F14<=30,"Within 30 days","Upcoming")))) -> Upcoming | H14: Wait until RSVPs are final.
B15: Final dress fitting | C15: 14 | D15: =IF('Start Here'!$B$6="","",'Start Here'!$B$6-C15) -> 46655 | E15: =IF(D15="","",TEXT(D15,"dddd")) -> Saturday | F15: =IF(D15="","",D15-TODAY()) -> 356 | G15: =IF(D15="","",IF(F15<0,"Passed",IF(F15<=7,"This week",IF(F15<=30,"Within 30 days","Upcoming")))) -> Upcoming | H15: Usually one to two weeks before.
B16: Final vendor payments due | C16: 7 | D16: =IF('Start Here'!$B$6="","",'Start Here'!$B$6-C16) -> 46662 | E16: =IF(D16="","",TEXT(D16,"dddd")) -> Saturday | F16: =IF(D16="","",D16-TODAY()) -> 363 | G16: =IF(D16="","",IF(F16<0,"Passed",IF(F16<=7,"This week",IF(F16<=30,"Within 30 days","Upcoming")))) -> Upcoming | H16: Per each contract. Many are due one to two weeks before.
B17: Rehearsal and rehearsal dinner | C17: 1 | D17: =IF('Start Here'!$B$6="","",'Start Here'!$B$6-C17) -> 46668 | E17: =IF(D17="","",TEXT(D17,"dddd")) -> Friday | F17: =IF(D17="","",D17-TODAY()) -> 369 | G17: =IF(D17="","",IF(F17<0,"Passed",IF(F17<=7,"This week",IF(F17<=30,"Within 30 days","Upcoming")))) -> Upcoming | H17: The day before the wedding.
B18: Wedding day | C18: 0 | D18: =IF('Start Here'!$B$6="","",'Start Here'!$B$6-C18) -> 46669 | E18: =IF(D18="","",TEXT(D18,"dddd")) -> Saturday | F18: =IF(D18="","",D18-TODAY()) -> 370 | G18: =IF(D18="","",IF(F18<0,"Passed",IF(F18<=7,"This week",IF(F18<=30,"Within 30 days","Upcoming")))) -> Upcoming
B19: Return marriage license / send thank-you notes | C19: -30 | D19: =IF('Start Here'!$B$6="","",'Start Here'!$B$6-C19) -> 46699 | E19: =IF(D19="","",TEXT(D19,"dddd")) -> Monday | F19: =IF(D19="","",D19-TODAY()) -> 400 | G19: =IF(D19="","",IF(F19<0,"Passed",IF(F19<=7,"This week",IF(F19<=30,"Within 30 days","Upcoming")))) -> Upcoming | H19: Confirm the license return deadline with your county office. Aim for thank-you notes within three months.

Sheet Monthly Overview
B1: Monthly Overview
B2: =HYPERLINK("#'Start Here'!A1","← Back to Start Here") -> ← Back to Start Here
B4: Month | C4: Time to wedding | D4: Milestones due | E4: Completed | F4: Remaining | G4: % done | H4: Typical focus | I4: Your notes
B5: =Timeline!K7 -> 46296 | C5: =IF(B5="","",IF('Start Here'!$B$6="","",IF(((YEAR('Start Here'!$B$6)-YEAR(B5))*12+MONTH('Start Here'!$B$6)-MONTH(B5))>0,((YEAR('Start Here'!$B$6)-YEAR(B5))*12+MONTH('Start Here'!$B$6)-MONTH(B5))&" months out",IF(((YEAR('Start Here'!$B$6)-YEAR(B5))*12+MONTH('Start Here'!$B$6)-MONTH(B5))=0,"Wedding month",-((YEAR('Start Here'!$B$6)-YEAR(B5))*12+MONTH('Start Here'!$B$6)-MONTH(B5))&" mo. after")))) -> 12 months out | D5: =IF(B5="","",COUNTIFS(Timeline!$G$8:$G$99,">="&B5,Timeline!$G$8:$G$99,"<="&EOMONTH(B5,0))) -> 2 | E5: =IF(B5="","",COUNTIFS(Timeline!$G$8:$G$99,">="&B5,Timeline!$G$8:$G$99,"<="&EOMONTH(B5,0),Timeline!$A$8:$A$99,"☑")) -> 0 | F5: =IF(B5="","",D5-E5) -> 2 | G5: =IF(OR(B5="",D5=0),"",E5/D5) -> 0 | H5: =IF(OR(B5="",'Start Here'!$B$6=""),"",IF(((YEAR('Start Here'!$B$6)-YEAR(B5))*12+MONTH('Start Here'!$B$6)-MONTH(B5))>=12,"Budget, guest list, venue, planner, photographer",IF(((YEAR('Start Here'!$B$6)-YEAR(B5))*12+MONTH('Start Here'!$B$6)-MONTH(B5))>=9,"Florist/designer, officiant, attire search, website",IF(((YEAR('Start Here'!$B$6)-YEAR(B5))*12+MONTH('Start Here'!$B$6)-MONTH(B5))>=6,"Supporting vendors, decor concept, honeymoon",IF(((YEAR('Start Here'!$B$6)-YEAR(B5))*12+MONTH('Start Here'!$B$6)-MONTH(B5))>=4,"Save-the-dates, invitations, dress, tasting",IF(((YEAR('Start Here'!$B$6)-YEAR(B5))*12+MONTH('Start Here'!$B$6)-MONTH(B5))>=3,"Finalize design and menu, fittings",IF(((YEAR('Start Here'!$B$6)-YEAR(B5))*12+MONTH('Start Here'!$B$6)-MONTH(B5))=2,"Invitations out, license, timeline",IF(((YEAR('Start Here'!$B$6)-YEAR(B5))*12+MONTH('Start Here'!$B$6)-MONTH(B5))=1,"RSVPs, confirmations, seating",IF(((YEAR('Start Here'!$B$6)-YEAR(B5))*12+MONTH('Start Here'!$B$6)-MONTH(B5))=0,"Final details, rehearsal, wedding day","Wrap-up, thank-yous, paperwork"))))))))) -> Budget, guest list, venue, planner, photographer
B6: =Timeline!L7 -> 46327 | C6: =IF(B6="","",IF('Start Here'!$B$6="","",IF(((YEAR('Start Here'!$B$6)-YEAR(B6))*12+MONTH('Start Here'!$B$6)-MONTH(B6))>0,((YEAR('Start Here'!$B$6)-YEAR(B6))*12+MONTH('Start Here'!$B$6)-MONTH(B6))&" months out",IF(((YEAR('Start Here'!$B$6)-YEAR(B6))*12+MONTH('Start Here'!$B$6)-MONTH(B6))=0,"Wedding month",-((YEAR('Start Here'!$B$6)-YEAR(B6))*12+MONTH('Start Here'!$B$6)-MONTH(B6))&" mo. after")))) -> 11 months out | D6: =IF(B6="","",COUNTIFS(Timeline!$G$8:$G$99,">="&B6,Timeline!$G$8:$G$99,"<="&EOMONTH(B6,0))) -> 2 | E6: =IF(B6="","",COUNTIFS(Timeline!$G$8:$G$99,">="&B6,Timeline!$G$8:$G$99,"<="&EOMONTH(B6,0),Timeline!$A$8:$A$99,"☑")) -> 0 | F6: =IF(B6="","",D6-E6) -> 2 | G6: =IF(OR(B6="",D6=0),"",E6/D6) -> 0 | H6: =IF(OR(B6="",'Start Here'!$B$6=""),"",IF(((YEAR('Start Here'!$B$6)-YEAR(B6))*12+MONTH('Start Here'!$B$6)-MONTH(B6))>=12,"Budget, guest list, venue, planner, photographer",IF(((YEAR('Start Here'!$B$6)-YEAR(B6))*12+MONTH('Start Here'!$B$6)-MONTH(B6))>=9,"Florist/designer, officiant, attire search, website",IF(((YEAR('Start Here'!$B$6)-YEAR(B6))*12+MONTH('Start Here'!$B$6)-MONTH(B6))>=6,"Supporting vendors, decor concept, honeymoon",IF(((YEAR('Start Here'!$B$6)-YEAR(B6))*12+MONTH('Start Here'!$B$6)-MONTH(B6))>=4,"Save-the-dates, invitations, dress, tasting",IF(((YEAR('Start Here'!$B$6)-YEAR(B6))*12+MONTH('Start Here'!$B$6)-MONTH(B6))>=3,"Finalize design and menu, fittings",IF(((YEAR('Start Here'!$B$6)-YEAR(B6))*12+MONTH('Start Here'!$B$6)-MONTH(B6))=2,"Invitations out, license, timeline",IF(((YEAR('Start Here'!$B$6)-YEAR(B6))*12+MONTH('Start Here'!$B$6)-MONTH(B6))=1,"RSVPs, confirmations, seating",IF(((YEAR('Start Here'!$B$6)-YEAR(B6))*12+MONTH('Start Here'!$B$6)-MONTH(B6))=0,"Final details, rehearsal, wedding day","Wrap-up, thank-yous, paperwork"))))))))) -> Florist/designer, officiant, attire search, website
B7: =Timeline!M7 -> 46357 | C7: =IF(B7="","",IF('Start Here'!$B$6="","",IF(((YEAR('Start Here'!$B$6)-YEAR(B7))*12+MONTH('Start Here'!$B$6)-MONTH(B7))>0,((YEAR('Start Here'!$B$6)-YEAR(B7))*12+MONTH('Start Here'!$B$6)-MONTH(B7))&" months out",IF(((YEAR('Start Here'!$B$6)-YEAR(B7))*12+MONTH('Start Here'!$B$6)-MONTH(B7))=0,"Wedding month",-((YEAR('Start Here'!$B$6)-YEAR(B7))*12+MONTH('Start Here'!$B$6)-MONTH(B7))&" mo. after")))) -> 10 months out | D7: =IF(B7="","",COUNTIFS(Timeline!$G$8:$G$99,">="&B7,Timeline!$G$8:$G$99,"<="&EOMONTH(B7,0))) -> 3 | E7: =IF(B7="","",COUNTIFS(Timeline!$G$8:$G$99,">="&B7,Timeline!$G$8:$G$99,"<="&EOMONTH(B7,0),Timeline!$A$8:$A$99,"☑")) -> 0 | F7: =IF(B7="","",D7-E7) -> 3 | G7: =IF(OR(B7="",D7=0),"",E7/D7) -> 0 | H7: =IF(OR(B7="",'Start Here'!$B$6=""),"",IF(((YEAR('Start Here'!$B$6)-YEAR(B7))*12+MONTH('Start Here'!$B$6)-MONTH(B7))>=12,"Budget, guest list, venue, planner, photographer",IF(((YEAR('Start Here'!$B$6)-YEAR(B7))*12+MONTH('Start Here'!$B$6)-MONTH(B7))>=9,"Florist/designer, officiant, attire search, website",IF(((YEAR('Start Here'!$B$6)-YEAR(B7))*12+MONTH('Start Here'!$B$6)-MONTH(B7))>=6,"Supporting vendors, decor concept, honeymoon",IF(((YEAR('Start Here'!$B$6)-YEAR(B7))*12+MONTH('Start Here'!$B$6)-MONTH(B7))>=4,"Save-the-dates, invitations, dress, tasting",IF(((YEAR('Start Here'!$B$6)-YEAR(B7))*12+MONTH('Start Here'!$B$6)-MONTH(B7))>=3,"Finalize design and menu, fittings",IF(((YEAR('Start Here'!$B$6)-YEAR(B7))*12+MONTH('Start Here'!$B$6)-MONTH(B7))=2,"Invitations out, license, timeline",IF(((YEAR('Start Here'!$B$6)-YEAR(B7))*12+MONTH('Start Here'!$B$6)-MONTH(B7))=1,"RSVPs, confirmations, seating",IF(((YEAR('Start Here'!$B$6)-YEAR(B7))*12+MONTH('Start Here'!$B$6)-MONTH(B7))=0,"Final details, rehearsal, wedding day","Wrap-up, thank-yous, paperwork"))))))))) -> Florist/designer, officiant, attire search, website
B8: =Timeline!N7 -> 46388 | C8: =IF(B8="","",IF('Start Here'!$B$6="","",IF(((YEAR('Start Here'!$B$6)-YEAR(B8))*12+MONTH('Start Here'!$B$6)-MONTH(B8))>0,((YEAR('Start Here'!$B$6)-YEAR(B8))*12+MONTH('Start Here'!$B$6)-MONTH(B8))&" months out",IF(((YEAR('Start Here'!$B$6)-YEAR(B8))*12+MONTH('Start Here'!$B$6)-MONTH(B8))=0,"Wedding month",-((YEAR('Start Here'!$B$6)-YEAR(B8))*12+MONTH('Start Here'!$B$6)-MONTH(B8))&" mo. after")))) -> 9 months out | D8: =IF(B8="","",COUNTIFS(Timeline!$G$8:$G$99,">="&B8,Timeline!$G$8:$G$99,"<="&EOMONTH(B8,0))) -> 2 | E8: =IF(B8="","",COUNTIFS(Timeline!$G$8:$G$99,">="&B8,Timeline!$G$8:$G$99,"<="&EOMONTH(B8,0),Timeline!$A$8:$A$99,"☑")) -> 0 | F8: =IF(B8="","",D8-E8) -> 2 | G8: =IF(OR(B8="",D8=0),"",E8/D8) -> 0 | H8: =IF(OR(B8="",'Start Here'!$B$6=""),"",IF(((YEAR('Start Here'!$B$6)-YEAR(B8))*12+MONTH('Start Here'!$B$6)-MONTH(B8))>=12,"Budget, guest list, venue, planner, photographer",IF(((YEAR('Start Here'!$B$6)-YEAR(B8))*12+MONTH('Start Here'!$B$6)-MONTH(B8))>=9,"Florist/designer, officiant, attire search, website",IF(((YEAR('Start Here'!$B$6)-YEAR(B8))*12+MONTH('Start Here'!$B$6)-MONTH(B8))>=6,"Supporting vendors, decor concept, honeymoon",IF(((YEAR('Start Here'!$B$6)-YEAR(B8))*12+MONTH('Start Here'!$B$6)-MONTH(B8))>=4,"Save-the-dates, invitations, dress, tasting",IF(((YEAR('Start Here'!$B$6)-YEAR(B8))*12+MONTH('Start Here'!$B$6)-MONTH(B8))>=3,"Finalize design and menu, fittings",IF(((YEAR('Start Here'!$B$6)-YEAR(B8))*12+MONTH('Start Here'!$B$6)-MONTH(B8))=2,"Invitations out, license, timeline",IF(((YEAR('Start Here'!$B$6)-YEAR(B8))*12+MONTH('Start Here'!$B$6)-MONTH(B8))=1,"RSVPs, confirmations, seating",IF(((YEAR('Start Here'!$B$6)-YEAR(B8))*12+MONTH('Start Here'!$B$6)-MONTH(B8))=0,"Final details, rehearsal, wedding day","Wrap-up, thank-yous, paperwork"))))))))) -> Florist/designer, officiant, attire search, website
B9: =Timeline!O7 -> 46419 | C9: =IF(B9="","",IF('Start Here'!$B$6="","",IF(((YEAR('Start Here'!$B$6)-YEAR(B9))*12+MONTH('Start Here'!$B$6)-MONTH(B9))>0,((YEAR('Start Here'!$B$6)-YEAR(B9))*12+MONTH('Start Here'!$B$6)-MONTH(B9))&" months out",IF(((YEAR('Start Here'!$B$6)-YEAR(B9))*12+MONTH('Start Here'!$B$6)-MONTH(B9))=0,"Wedding month",-((YEAR('Start Here'!$B$6)-YEAR(B9))*12+MONTH('Start Here'!$B$6)-MONTH(B9))&" mo. after")))) -> 8 months out | D9: =IF(B9="","",COUNTIFS(Timeline!$G$8:$G$99,">="&B9,Timeline!$G$8:$G$99,"<="&EOMONTH(B9,0))) -> 7 | E9: =IF(B9="","",COUNTIFS(Timeline!$G$8:$G$99,">="&B9,Timeline!$G$8:$G$99,"<="&EOMONTH(B9,0),Timeline!$A$8:$A$99,"☑")) -> 0 | F9: =IF(B9="","",D9-E9) -> 7 | G9: =IF(OR(B9="",D9=0),"",E9/D9) -> 0 | H9: =IF(OR(B9="",'Start Here'!$B$6=""),"",IF(((YEAR('Start Here'!$B$6)-YEAR(B9))*12+MONTH('Start Here'!$B$6)-MONTH(B9))>=12,"Budget, guest list, venue, planner, photographer",IF(((YEAR('Start Here'!$B$6)-YEAR(B9))*12+MONTH('Start Here'!$B$6)-MONTH(B9))>=9,"Florist/designer, officiant, attire search, website",IF(((YEAR('Start Here'!$B$6)-YEAR(B9))*12+MONTH('Start Here'!$B$6)-MONTH(B9))>=6,"Supporting vendors, decor concept, honeymoon",IF(((YEAR('Start Here'!$B$6)-YEAR(B9))*12+MONTH('Start Here'!$B$6)-MONTH(B9))>=4,"Save-the-dates, invitations, dress, tasting",IF(((YEAR('Start Here'!$B$6)-YEAR(B9))*12+MONTH('Start Here'!$B$6)-MONTH(B9))>=3,"Finalize design and menu, fittings",IF(((YEAR('Start Here'!$B$6)-YEAR(B9))*12+MONTH('Start Here'!$B$6)-MONTH(B9))=2,"Invitations out, license, timeline",IF(((YEAR('Start Here'!$B$6)-YEAR(B9))*12+MONTH('Start Here'!$B$6)-MONTH(B9))=1,"RSVPs, confirmations, seating",IF(((YEAR('Start Here'!$B$6)-YEAR(B9))*12+MONTH('Start Here'!$B$6)-MONTH(B9))=0,"Final details, rehearsal, wedding day","Wrap-up, thank-yous, paperwork"))))))))) -> Supporting vendors, decor concept, honeymoon
B10: =Timeline!P7 -> 46447 | C10: =IF(B10="","",IF('Start Here'!$B$6="","",IF(((YEAR('Start Here'!$B$6)-YEAR(B10))*12+MONTH('Start Here'!$B$6)-MONTH(B10))>0,((YEAR('Start Here'!$B$6)-YEAR(B10))*12+MONTH('Start Here'!$B$6)-MONTH(B10))&" months out",IF(((YEAR('Start Here'!$B$6)-YEAR(B10))*12+MONTH('Start Here'!$B$6)-MONTH(B10))=0,"Wedding month",-((YEAR('Start Here'!$B$6)-YEAR(B10))*12+MONTH('Start Here'!$B$6)-MONTH(B10))&" mo. after")))) -> 7 months out | D10: =IF(B10="","",COUNTIFS(Timeline!$G$8:$G$99,">="&B10,Timeline!$G$8:$G$99,"<="&EOMONTH(B10,0))) -> 2 | E10: =IF(B10="","",COUNTIFS(Timeline!$G$8:$G$99,">="&B10,Timeline!$G$8:$G$99,"<="&EOMONTH(B10,0),Timeline!$A$8:$A$99,"☑")) -> 0 | F10: =IF(B10="","",D10-E10) -> 2 | G10: =IF(OR(B10="",D10=0),"",E10/D10) -> 0 | H10: =IF(OR(B10="",'Start Here'!$B$6=""),"",IF(((YEAR('Start Here'!$B$6)-YEAR(B10))*12+MONTH('Start Here'!$B$6)-MONTH(B10))>=12,"Budget, guest list, venue, planner, photographer",IF(((YEAR('Start Here'!$B$6)-YEAR(B10))*12+MONTH('Start Here'!$B$6)-MONTH(B10))>=9,"Florist/designer, officiant, attire search, website",IF(((YEAR('Start Here'!$B$6)-YEAR(B10))*12+MONTH('Start Here'!$B$6)-MONTH(B10))>=6,"Supporting vendors, decor concept, honeymoon",IF(((YEAR('Start Here'!$B$6)-YEAR(B10))*12+MONTH('Start Here'!$B$6)-MONTH(B10))>=4,"Save-the-dates, invitations, dress, tasting",IF(((YEAR('Start Here'!$B$6)-YEAR(B10))*12+MONTH('Start Here'!$B$6)-MONTH(B10))>=3,"Finalize design and menu, fittings",IF(((YEAR('Start Here'!$B$6)-YEAR(B10))*12+MONTH('Start Here'!$B$6)-MONTH(B10))=2,"Invitations out, license, timeline",IF(((YEAR('Start Here'!$B$6)-YEAR(B10))*12+MONTH('Start Here'!$B$6)-MONTH(B10))=1,"RSVPs, confirmations, seating",IF(((YEAR('Start Here'!$B$6)-YEAR(B10))*12+MONTH('Start Here'!$B$6)-MONTH(B10))=0,"Final details, rehearsal, wedding day","Wrap-up, thank-yous, paperwork"))))))))) -> Supporting vendors, decor concept, honeymoon
B11: =Timeline!Q7 -> 46478 | C11: =IF(B11="","",IF('Start Here'!$B$6="","",IF(((YEAR('Start Here'!$B$6)-YEAR(B11))*12+MONTH('Start Here'!$B$6)-MONTH(B11))>0,((YEAR('Start Here'!$B$6)-YEAR(B11))*12+MONTH('Start Here'!$B$6)-MONTH(B11))&" months out",IF(((YEAR('Start Here'!$B$6)-YEAR(B11))*12+MONTH('Start Here'!$B$6)-MONTH(B11))=0,"Wedding month",-((YEAR('Start Here'!$B$6)-YEAR(B11))*12+MONTH('Start Here'!$B$6)-MONTH(B11))&" mo. after")))) -> 6 months out | D11: =IF(B11="","",COUNTIFS(Timeline!$G$8:$G$99,">="&B11,Timeline!$G$8:$G$99,"<="&EOMONTH(B11,0))) -> 11 | E11: =IF(B11="","",COUNTIFS(Timeline!$G$8:$G$99,">="&B11,Timeline!$G$8:$G$99,"<="&EOMONTH(B11,0),Timeline!$A$8:$A$99,"☑")) -> 0 | F11: =IF(B11="","",D11-E11) -> 11 | G11: =IF(OR(B11="",D11=0),"",E11/D11) -> 0 | H11: =IF(OR(B11="",'Start Here'!$B$6=""),"",IF(((YEAR('Start Here'!$B$6)-YEAR(B11))*12+MONTH('Start Here'!$B$6)-MONTH(B11))>=12,"Budget, guest list, venue, planner, photographer",IF(((YEAR('Start Here'!$B$6)-YEAR(B11))*12+MONTH('Start Here'!$B$6)-MONTH(B11))>=9,"Florist/designer, officiant, attire search, website",IF(((YEAR('Start Here'!$B$6)-YEAR(B11))*12+MONTH('Start Here'!$B$6)-MONTH(B11))>=6,"Supporting vendors, decor concept, honeymoon",IF(((YEAR('Start Here'!$B$6)-YEAR(B11))*12+MONTH('Start Here'!$B$6)-MONTH(B11))>=4,"Save-the-dates, invitations, dress, tasting",IF(((YEAR('Start Here'!$B$6)-YEAR(B11))*12+MONTH('Start Here'!$B$6)-MONTH(B11))>=3,"Finalize design and menu, fittings",IF(((YEAR('Start Here'!$B$6)-YEAR(B11))*12+MONTH('Start Here'!$B$6)-MONTH(B11))=2,"Invitations out, license, timeline",IF(((YEAR('Start Here'!$B$6)-YEAR(B11))*12+MONTH('Start Here'!$B$6)-MONTH(B11))=1,"RSVPs, confirmations, seating",IF(((YEAR('Start Here'!$B$6)-YEAR(B11))*12+MONTH('Start Here'!$B$6)-MONTH(B11))=0,"Final details, rehearsal, wedding day","Wrap-up, thank-yous, paperwork"))))))))) -> Supporting vendors, decor concept, honeymoon
B12: =Timeline!R7 -> 46508 | C12: =IF(B12="","",IF('Start Here'!$B$6="","",IF(((YEAR('Start Here'!$B$6)-YEAR(B12))*12+MONTH('Start Here'!$B$6)-MONTH(B12))>0,((YEAR('Start Here'!$B$6)-YEAR(B12))*12+MONTH('Start Here'!$B$6)-MONTH(B12))&" months out",IF(((YEAR('Start Here'!$B$6)-YEAR(B12))*12+MONTH('Start Here'!$B$6)-MONTH(B12))=0,"Wedding month",-((YEAR('Start Here'!$B$6)-YEAR(B12))*12+MONTH('Start Here'!$B$6)-MONTH(B12))&" mo. after")))) -> 5 months out | D12: =IF(B12="","",COUNTIFS(Timeline!$G$8:$G$99,">="&B12,Timeline!$G$8:$G$99,"<="&EOMONTH(B12,0))) -> 2 | E12: =IF(B12="","",COUNTIFS(Timeline!$G$8:$G$99,">="&B12,Timeline!$G$8:$G$99,"<="&EOMONTH(B12,0),Timeline!$A$8:$A$99,"☑")) -> 0 | F12: =IF(B12="","",D12-E12) -> 2 | G12: =IF(OR(B12="",D12=0),"",E12/D12) -> 0 | H12: =IF(OR(B12="",'Start Here'!$B$6=""),"",IF(((YEAR('Start Here'!$B$6)-YEAR(B12))*12+MONTH('Start Here'!$B$6)-MONTH(B12))>=12,"Budget, guest list, venue, planner, photographer",IF(((YEAR('Start Here'!$B$6)-YEAR(B12))*12+MONTH('Start Here'!$B$6)-MONTH(B12))>=9,"Florist/designer, officiant, attire search, website",IF(((YEAR('Start Here'!$B$6)-YEAR(B12))*12+MONTH('Start Here'!$B$6)-MONTH(B12))>=6,"Supporting vendors, decor concept, honeymoon",IF(((YEAR('Start Here'!$B$6)-YEAR(B12))*12+MONTH('Start Here'!$B$6)-MONTH(B12))>=4,"Save-the-dates, invitations, dress, tasting",IF(((YEAR('Start Here'!$B$6)-YEAR(B12))*12+MONTH('Start Here'!$B$6)-MONTH(B12))>=3,"Finalize design and menu, fittings",IF(((YEAR('Start Here'!$B$6)-YEAR(B12))*12+MONTH('Start Here'!$B$6)-MONTH(B12))=2,"Invitations out, license, timeline",IF(((YEAR('Start Here'!$B$6)-YEAR(B12))*12+MONTH('Start Here'!$B$6)-MONTH(B12))=1,"RSVPs, confirmations, seating",IF(((YEAR('Start Here'!$B$6)-YEAR(B12))*12+MONTH('Start Here'!$B$6)-MONTH(B12))=0,"Final details, rehearsal, wedding day","Wrap-up, thank-yous, paperwork"))))))))) -> Save-the-dates, invitations, dress, tasting
B13: =Timeline!S7 -> 46539 | C13: =IF(B13="","",IF('Start Here'!$B$6="","",IF(((YEAR('Start Here'!$B$6)-YEAR(B13))*12+MONTH('Start Here'!$B$6)-MONTH(B13))>0,((YEAR('Start Here'!$B$6)-YEAR(B13))*12+MONTH('Start Here'!$B$6)-MONTH(B13))&" months out",IF(((YEAR('Start Here'!$B$6)-YEAR(B13))*12+MONTH('Start Here'!$B$6)-MONTH(B13))=0,"Wedding month",-((YEAR('Start Here'!$B$6)-YEAR(B13))*12+MONTH('Start Here'!$B$6)-MONTH(B13))&" mo. after")))) -> 4 months out | D13: =IF(B13="","",COUNTIFS(Timeline!$G$8:$G$99,">="&B13,Timeline!$G$8:$G$99,"<="&EOMONTH(B13,0))) -> 3 | E13: =IF(B13="","",COUNTIFS(Timeline!$G$8:$G$99,">="&B13,Timeline!$G$8:$G$99,"<="&EOMONTH(B13,0),Timeline!$A$8:$A$99,"☑")) -> 0 | F13: =IF(B13="","",D13-E13) -> 3 | G13: =IF(OR(B13="",D13=0),"",E13/D13) -> 0 | H13: =IF(OR(B13="",'Start Here'!$B$6=""),"",IF(((YEAR('Start Here'!$B$6)-YEAR(B13))*12+MONTH('Start Here'!$B$6)-MONTH(B13))>=12,"Budget, guest list, venue, planner, photographer",IF(((YEAR('Start Here'!$B$6)-YEAR(B13))*12+MONTH('Start Here'!$B$6)-MONTH(B13))>=9,"Florist/designer, officiant, attire search, website",IF(((YEAR('Start Here'!$B$6)-YEAR(B13))*12+MONTH('Start Here'!$B$6)-MONTH(B13))>=6,"Supporting vendors, decor concept, honeymoon",IF(((YEAR('Start Here'!$B$6)-YEAR(B13))*12+MONTH('Start Here'!$B$6)-MONTH(B13))>=4,"Save-the-dates, invitations, dress, tasting",IF(((YEAR('Start Here'!$B$6)-YEAR(B13))*12+MONTH('Start Here'!$B$6)-MONTH(B13))>=3,"Finalize design and menu, fittings",IF(((YEAR('Start Here'!$B$6)-YEAR(B13))*12+MONTH('Start Here'!$B$6)-MONTH(B13))=2,"Invitations out, license, timeline",IF(((YEAR('Start Here'!$B$6)-YEAR(B13))*12+MONTH('Start Here'!$B$6)-MONTH(B13))=1,"RSVPs, confirmations, seating",IF(((YEAR('Start Here'!$B$6)-YEAR(B13))*12+MONTH('Start Here'!$B$6)-MONTH(B13))=0,"Final details, rehearsal, wedding day","Wrap-up, thank-yous, paperwork"))))))))) -> Save-the-dates, invitations, dress, tasting
B14: =Timeline!T7 -> 46569 | C14: =IF(B14="","",IF('Start Here'!$B$6="","",IF(((YEAR('Start Here'!$B$6)-YEAR(B14))*12+MONTH('Start Here'!$B$6)-MONTH(B14))>0,((YEAR('Start Here'!$B$6)-YEAR(B14))*12+MONTH('Start Here'!$B$6)-MONTH(B14))&" months out",IF(((YEAR('Start Here'!$B$6)-YEAR(B14))*12+MONTH('Start Here'!$B$6)-MONTH(B14))=0,"Wedding month",-((YEAR('Start Here'!$B$6)-YEAR(B14))*12+MONTH('Start Here'!$B$6)-MONTH(B14))&" mo. after")))) -> 3 months out | D14: =IF(B14="","",COUNTIFS(Timeline!$G$8:$G$99,">="&B14,Timeline!$G$8:$G$99,"<="&EOMONTH(B14,0))) -> 6 | E14: =IF(B14="","",COUNTIFS(Timeline!$G$8:$G$99,">="&B14,Timeline!$G$8:$G$99,"<="&EOMONTH(B14,0),Timeline!$A$8:$A$99,"☑")) -> 0 | F14: =IF(B14="","",D14-E14) -> 6 | G14: =IF(OR(B14="",D14=0),"",E14/D14) -> 0 | H14: =IF(OR(B14="",'Start Here'!$B$6=""),"",IF(((YEAR('Start Here'!$B$6)-YEAR(B14))*12+MONTH('Start Here'!$B$6)-MONTH(B14))>=12,"Budget, guest list, venue, planner, photographer",IF(((YEAR('Start Here'!$B$6)-YEAR(B14))*12+MONTH('Start Here'!$B$6)-MONTH(B14))>=9,"Florist/designer, officiant, attire search, website",IF(((YEAR('Start Here'!$B$6)-YEAR(B14))*12+MONTH('Start Here'!$B$6)-MONTH(B14))>=6,"Supporting vendors, decor concept, honeymoon",IF(((YEAR('Start Here'!$B$6)-YEAR(B14))*12+MONTH('Start Here'!$B$6)-MONTH(B14))>=4,"Save-the-dates, invitations, dress, tasting",IF(((YEAR('Start Here'!$B$6)-YEAR(B14))*12+MONTH('Start Here'!$B$6)-MONTH(B14))>=3,"Finalize design and menu, fittings",IF(((YEAR('Start Here'!$B$6)-YEAR(B14))*12+MONTH('Start Here'!$B$6)-MONTH(B14))=2,"Invitations out, license, timeline",IF(((YEAR('Start Here'!$B$6)-YEAR(B14))*12+MONTH('Start Here'!$B$6)-MONTH(B14))=1,"RSVPs, confirmations, seating",IF(((YEAR('Start Here'!$B$6)-YEAR(B14))*12+MONTH('Start Here'!$B$6)-MONTH(B14))=0,"Final details, rehearsal, wedding day","Wrap-up, thank-yous, paperwork"))))))))) -> Finalize design and menu, fittings
B15: =Timeline!U7 -> 46600 | C15: =IF(B15="","",IF('Start Here'!$B$6="","",IF(((YEAR('Start Here'!$B$6)-YEAR(B15))*12+MONTH('Start Here'!$B$6)-MONTH(B15))>0,((YEAR('Start Here'!$B$6)-YEAR(B15))*12+MONTH('Start Here'!$B$6)-MONTH(B15))&" months out",IF(((YEAR('Start Here'!$B$6)-YEAR(B15))*12+MONTH('Start Here'!$B$6)-MONTH(B15))=0,"Wedding month",-((YEAR('Start Here'!$B$6)-YEAR(B15))*12+MONTH('Start Here'!$B$6)-MONTH(B15))&" mo. after")))) -> 2 months out | D15: =IF(B15="","",COUNTIFS(Timeline!$G$8:$G$99,">="&B15,Timeline!$G$8:$G$99,"<="&EOMONTH(B15,0))) -> 6 | E15: =IF(B15="","",COUNTIFS(Timeline!$G$8:$G$99,">="&B15,Timeline!$G$8:$G$99,"<="&EOMONTH(B15,0),Timeline!$A$8:$A$99,"☑")) -> 0 | F15: =IF(B15="","",D15-E15) -> 6 | G15: =IF(OR(B15="",D15=0),"",E15/D15) -> 0 | H15: =IF(OR(B15="",'Start Here'!$B$6=""),"",IF(((YEAR('Start Here'!$B$6)-YEAR(B15))*12+MONTH('Start Here'!$B$6)-MONTH(B15))>=12,"Budget, guest list, venue, planner, photographer",IF(((YEAR('Start Here'!$B$6)-YEAR(B15))*12+MONTH('Start Here'!$B$6)-MONTH(B15))>=9,"Florist/designer, officiant, attire search, website",IF(((YEAR('Start Here'!$B$6)-YEAR(B15))*12+MONTH('Start Here'!$B$6)-MONTH(B15))>=6,"Supporting vendors, decor concept, honeymoon",IF(((YEAR('Start Here'!$B$6)-YEAR(B15))*12+MONTH('Start Here'!$B$6)-MONTH(B15))>=4,"Save-the-dates, invitations, dress, tasting",IF(((YEAR('Start Here'!$B$6)-YEAR(B15))*12+MONTH('Start Here'!$B$6)-MONTH(B15))>=3,"Finalize design and menu, fittings",IF(((YEAR('Start Here'!$B$6)-YEAR(B15))*12+MONTH('Start Here'!$B$6)-MONTH(B15))=2,"Invitations out, license, timeline",IF(((YEAR('Start Here'!$B$6)-YEAR(B15))*12+MONTH('Start Here'!$B$6)-MONTH(B15))=1,"RSVPs, confirmations, seating",IF(((YEAR('Start Here'!$B$6)-YEAR(B15))*12+MONTH('Start Here'!$B$6)-MONTH(B15))=0,"Final details, rehearsal, wedding day","Wrap-up, thank-yous, paperwork"))))))))) -> Invitations out, license, timeline
B16: =Timeline!V7 -> 46631 | C16: =IF(B16="","",IF('Start Here'!$B$6="","",IF(((YEAR('Start Here'!$B$6)-YEAR(B16))*12+MONTH('Start Here'!$B$6)-MONTH(B16))>0,((YEAR('Start Here'!$B$6)-YEAR(B16))*12+MONTH('Start Here'!$B$6)-MONTH(B16))&" months out",IF(((YEAR('Start Here'!$B$6)-YEAR(B16))*12+MONTH('Start Here'!$B$6)-MONTH(B16))=0,"Wedding month",-((YEAR('Start Here'!$B$6)-YEAR(B16))*12+MONTH('Start Here'!$B$6)-MONTH(B16))&" mo. after")))) -> 1 months out | D16: =IF(B16="","",COUNTIFS(Timeline!$G$8:$G$99,">="&B16,Timeline!$G$8:$G$99,"<="&EOMONTH(B16,0))) -> 16 | E16: =IF(B16="","",COUNTIFS(Timeline!$G$8:$G$99,">="&B16,Timeline!$G$8:$G$99,"<="&EOMONTH(B16,0),Timeline!$A$8:$A$99,"☑")) -> 0 | F16: =IF(B16="","",D16-E16) -> 16 | G16: =IF(OR(B16="",D16=0),"",E16/D16) -> 0 | H16: =IF(OR(B16="",'Start Here'!$B$6=""),"",IF(((YEAR('Start Here'!$B$6)-YEAR(B16))*12+MONTH('Start Here'!$B$6)-MONTH(B16))>=12,"Budget, guest list, venue, planner, photographer",IF(((YEAR('Start Here'!$B$6)-YEAR(B16))*12+MONTH('Start Here'!$B$6)-MONTH(B16))>=9,"Florist/designer, officiant, attire search, website",IF(((YEAR('Start Here'!$B$6)-YEAR(B16))*12+MONTH('Start Here'!$B$6)-MONTH(B16))>=6,"Supporting vendors, decor concept, honeymoon",IF(((YEAR('Start Here'!$B$6)-YEAR(B16))*12+MONTH('Start Here'!$B$6)-MONTH(B16))>=4,"Save-the-dates, invitations, dress, tasting",IF(((YEAR('Start Here'!$B$6)-YEAR(B16))*12+MONTH('Start Here'!$B$6)-MONTH(B16))>=3,"Finalize design and menu, fittings",IF(((YEAR('Start Here'!$B$6)-YEAR(B16))*12+MONTH('Start Here'!$B$6)-MONTH(B16))=2,"Invitations out, license, timeline",IF(((YEAR('Start Here'!$B$6)-YEAR(B16))*12+MONTH('Start Here'!$B$6)-MONTH(B16))=1,"RSVPs, confirmations, seating",IF(((YEAR('Start Here'!$B$6)-YEAR(B16))*12+MONTH('Start Here'!$B$6)-MONTH(B16))=0,"Final details, rehearsal, wedding day","Wrap-up, thank-yous, paperwork"))))))))) -> RSVPs, confirmations, seating
